BEGIN:VCALENDAR
VERSION:2.0
PRODID:-//Petra Hruska - Live YOUR LIFE in YOUR BALANCE - Yoga - ECPv5.14.2.1//NONSGML v1.0//EN
CALSCALE:GREGORIAN
METHOD:PUBLISH
X-WR-CALNAME:Petra Hruska - Live YOUR LIFE in YOUR BALANCE - Yoga
X-ORIGINAL-URL:https://petrahruska.at
X-WR-CALDESC:Veranstaltungen für Petra Hruska - Live YOUR LIFE in YOUR BALANCE - Yoga
REFRESH-INTERVAL;VALUE=DURATION:PT1H
X-Robots-Tag:noindex
X-PUBLISHED-TTL:PT1H
BEGIN:VTIMEZONE
TZID:Europe/Vienna
BEGIN:DAYLIGHT
TZOFFSETFROM:+0100
TZOFFSETTO:+0200
TZNAME:CEST
DTSTART:20190331T010000
END:DAYLIGHT
BEGIN:STANDARD
TZOFFSETFROM:+0200
TZOFFSETTO:+0100
TZNAME:CET
DTSTART:20191027T010000
END:STANDARD
END:VTIMEZONE
BEGIN:VEVENT
DTSTART;TZID=Europe/Vienna:20190628T190000
DTEND;TZID=Europe/Vienna:20190628T200000
DTSTAMP:20260424T233027
CREATED:20190624T092335Z
LAST-MODIFIED:20190624T092335Z
UID:470-1561748400-1561752000@petrahruska.at
SUMMARY:Chakra Clearing @ Horizont Institut
DESCRIPTION:Erfahren Sie an diesem Abend: \n-) wie Sie Ihre Energiezentren aktivieren\n-) wie Sie Ihre Energetische Wirbelsäule reinigen\n-) wie Sie auch Ihre physische Wirbelsäule wieder lockern \nDurch einfache Atemtechniken (Pranayamas) reinigen wir unsere Lunge und bringen Yin&Yan in Gleichklang. \nBegleitet durch ein Mantra reinigen wir durch bestimmte Übungen (sitzend – für Anfänger auch gerne stehend) unsere energetische Wirbelsäule\, die auch unsere physische Wirbelsäule massieren und in Schwingung bringen. Dadurch reinigen wir unseren Hauptenergiekanal. Spüren Sie selbst den Unterschied Ihrer Energie davor und danach ♥ \nZum Abschluss leite ich die Gruppe durch die 3 Phasen der Yogischen Entspannung (Shavasana).\n______________________________________________________ \nZeit: von 19:00 bis 20:00 Uhr – bitte kommen Sie schon 10 Minuten früher\, wir starten pünktlich! \nMatten und Meditationskissen liegen schon für Sie bereit! \nAusgleich: € 12\,-\nBringen Sie eine/n Freund/in mit und jeder von Ihnen bezahlt nur € 10\,- \nMax. 15 Personen \nBitte melden Sie sich per E-Mail an > info@petrahruska.at oder\nüber das Kontaktformular! Danke!
URL:https://petrahruska.at/event/chakra-clearing-horizont-institut/
LOCATION:Horizont Institut\, Trautmannsdorffgasse 19/8\, Wien\, 1130
ORGANIZER;CN="Petra%20Hruska":MAILTO:info@petrahruska.at
END:VEVENT
END:VCALENDAR